BEGIN:VCALENDAR
VERSION:2.0
PRODID:-//hacksw/handcal//NONSGML v1.0//EN
CALSCALE:GREGORIAN
BEGIN:VEVENT
LOCATION:Park der Villa Rychenberg
DTSTART:20230907T170000Z
DTEND:20230907T193000Z
SUMMARY:lauschig und verloren – Ivna Žic und Usama Al Shahmani
URL;VALUE=URI:
UID:69eb5677e9615
END:VEVENT
END:VCALENDAR