BEGIN:VCALENDAR
VERSION:2.0
PRODID:-//hacksw/handcal//NONSGML v1.0//EN
CALSCALE:GREGORIAN
BEGIN:VEVENT
LOCATION:Lenzburg\, Treffpunkt: Aargauer Literaturhaus
DTSTART:20260913T091500Z
DTEND:20260913T110000Z
SUMMARY:SONNTAGSSTREIFZUG MIT JULIA WEBER
URL;VALUE=URI:
UID:69eb540156bc2
END:VEVENT
END:VCALENDAR