BEGIN:VCALENDAR
VERSION:2.0
PRODID:-//hacksw/handcal//NONSGML v1.0//EN
CALSCALE:GREGORIAN
BEGIN:VEVENT
LOCATION:Frauenfeld\, Treffpunkt: Naturmuseum Thurgau
DTSTART:20240609T090000Z
DTEND:20240609T110000Z
SUMMARY:lauschig unterwegs – Sonntagsspaziergang mit Matthias Zschokke  
URL;VALUE=URI:
UID:69eb59b7ec9ab
END:VEVENT
END:VCALENDAR