BEGIN:VCALENDAR
VERSION:2.0
PRODID:-//hacksw/handcal//NONSGML v1.0//EN
CALSCALE:GREGORIAN
BEGIN:VEVENT
LOCATION:Frauenfeld\, Treffpunkt: Naturmuseum Thurgau
DTSTART:20260531T083000Z
DTEND:20260531T110000Z
SUMMARY:SONNTAGSSPAZIERGANG MIT GIANNA OLINDA CADONAU
URL;VALUE=URI:
UID:69eb55d138f8c
END:VEVENT
END:VCALENDAR