BEGIN:VCALENDAR
VERSION:2.0
PRODID:-//hacksw/handcal//NONSGML v1.0//EN
CALSCALE:GREGORIAN
BEGIN:VEVENT
LOCATION:
DTSTART:20221127T160000Z
DTEND:20221127T170000Z
SUMMARY:Sofalesung mit Samuel Schnydrig: Klaus – Leben vor dem Steinschlag
URL;VALUE=URI:
UID:69eb95bb5f1e8
END:VEVENT
END:VCALENDAR