BEGIN:VCALENDAR
VERSION:2.0
PRODID:-//hacksw/handcal//NONSGML v1.0//EN
CALSCALE:GREGORIAN
BEGIN:VEVENT
LOCATION:
DTSTART:20230326T150000Z
DTEND:20230326T160000Z
SUMMARY:Sofalesung mit Noemi Somalvico: «Ist hier das Jenseits\, fragt Schwein»
URL;VALUE=URI:
UID:69eb6d5c3c449
END:VEVENT
END:VCALENDAR