BEGIN:VCALENDAR
VERSION:2.0
PRODID:-//hacksw/handcal//NONSGML v1.0//EN
CALSCALE:GREGORIAN
BEGIN:VEVENT
LOCATION:
DTSTART:20230129T160000Z
DTEND:20230129T170000Z
SUMMARY:Sofalesung mit Lidija Burčak: «Nöd us Zucker»
URL;VALUE=URI:
UID:69eb45eb7652b
END:VEVENT
END:VCALENDAR