BEGIN:VCALENDAR
VERSION:2.0
PRODID:-//hacksw/handcal//NONSGML v1.0//EN
CALSCALE:GREGORIAN
BEGIN:VEVENT
LOCATION:
DTSTART:20230305T160000Z
DTEND:20230305T170000Z
SUMMARY:Sofalesung mit Julia Toggenburger: «Nebelgrenze»
URL;VALUE=URI:
UID:69eb581f341e6
END:VEVENT
END:VCALENDAR