BEGIN:VCALENDAR
VERSION:2.0
PRODID:-//hacksw/handcal//NONSGML v1.0//EN
CALSCALE:GREGORIAN
BEGIN:VEVENT
LOCATION:Rosengarten
DTSTART:20260822T120000Z
DTEND:20260822T140000Z
SUMMARY:SILENT READING RAVE
URL;VALUE=URI:
UID:69eb553b297a0
END:VEVENT
END:VCALENDAR