BEGIN:VCALENDAR
VERSION:2.0
PRODID:-//hacksw/handcal//NONSGML v1.0//EN
CALSCALE:GREGORIAN
BEGIN:VEVENT
LOCATION:Park Berufsschulhaus Wiesental
DTSTART:20260705T120000Z
DTEND:20260705T140000Z
SUMMARY:SILENT READING RAVE
URL;VALUE=URI:
UID:69eb52d202302
END:VEVENT
END:VCALENDAR