BEGIN:VCALENDAR
VERSION:2.0
PRODID:-//hacksw/handcal//NONSGML v1.0//EN
CALSCALE:GREGORIAN
BEGIN:VEVENT
LOCATION:Park der Sammlung Oskar Reinhart «Am Römerholz»
DTSTART:20260812T160000Z
DTEND:20260812T180000Z
SUMMARY:RILKE-SPAZIERGANG MIT ROLF HERMANN UND WILFRIED MEICHTRY
URL;VALUE=URI:
UID:69eb65a408670
END:VEVENT
END:VCALENDAR