BEGIN:VCALENDAR
VERSION:2.0
PRODID:-//hacksw/handcal//NONSGML v1.0//EN
CALSCALE:GREGORIAN
BEGIN:VEVENT
LOCATION:Rosengarten
DTSTART:20260604T173000Z
DTEND:20260604T200000Z
SUMMARY:NORA GOMRINGER UND KATJA FRÜH
URL;VALUE=URI:
UID:69eb542eb2f3e
END:VEVENT
END:VCALENDAR