BEGIN:VCALENDAR
VERSION:2.0
PRODID:-//hacksw/handcal//NONSGML v1.0//EN
CALSCALE:GREGORIAN
BEGIN:VEVENT
LOCATION:Adlergarten
DTSTART:20230824T170000Z
DTEND:20230824T193000Z
SUMMARY:lauschig und versteckt – Sarah Elena Müller und Lukas Bärfuss
URL;VALUE=URI:
UID:69eb6c6106f94
END:VEVENT
END:VCALENDAR