BEGIN:VCALENDAR
VERSION:2.0
PRODID:-//hacksw/handcal//NONSGML v1.0//EN
CALSCALE:GREGORIAN
BEGIN:VEVENT
LOCATION:Solothurn\, Treffpunkt: Museumspark
DTSTART:20260516T140000Z
DTEND:20260516T151500Z
SUMMARY:LYRIKSPAZIERGANG MIT SARAH VOGLER
URL;VALUE=URI:
UID:69eb5437bbb88
END:VEVENT
END:VCALENDAR