BEGIN:VCALENDAR
VERSION:2.0
PRODID:-//hacksw/handcal//NONSGML v1.0//EN
CALSCALE:GREGORIAN
BEGIN:VEVENT
LOCATION:Rosengarten
DTSTART:20260827T170000Z
DTEND:20260827T193000Z
SUMMARY:LUKAS BÄRFUSS UND SARAH ELENA MÜLLER
URL;VALUE=URI:
UID:69eb41265b591
END:VEVENT
END:VCALENDAR