BEGIN:VCALENDAR
VERSION:2.0
PRODID:-//hacksw/handcal//NONSGML v1.0//EN
CALSCALE:GREGORIAN
BEGIN:VEVENT
LOCATION:Treffpunkt Lindengutpark
DTSTART:20250624T170000Z
DTEND:20250624T190000Z
SUMMARY:lauschig unterwegs –  Baumspaziergang mit Usama Al Shahmani (ausverkauft)
URL;VALUE=URI:
UID:69eb96027c3f2
END:VEVENT
END:VCALENDAR