BEGIN:VCALENDAR
VERSION:2.0
PRODID:-//hacksw/handcal//NONSGML v1.0//EN
CALSCALE:GREGORIAN
BEGIN:VEVENT
LOCATION:Osttor
DTSTART:20250626T173000Z
DTEND:20250626T200000Z
SUMMARY:lauschig und persönlich –  Zora del Buono und Tabea Steiner
URL;VALUE=URI:
UID:69eb57d4a8c46
END:VEVENT
END:VCALENDAR