BEGIN:VCALENDAR
VERSION:2.0
PRODID:-//hacksw/handcal//NONSGML v1.0//EN
CALSCALE:GREGORIAN
BEGIN:VEVENT
LOCATION:Rosengarten
DTSTART:20250703T173000Z
DTEND:20250703T193000Z
SUMMARY:lauschig und lesend – Silent reading rave
URL;VALUE=URI:
UID:69eb6c83e7ba9
END:VEVENT
END:VCALENDAR