BEGIN:VCALENDAR
VERSION:2.0
PRODID:-//hacksw/handcal//NONSGML v1.0//EN
CALSCALE:GREGORIAN
BEGIN:VEVENT
LOCATION:Innenhof der Stadtbibliothek
DTSTART:20240613T160000Z
DTEND:20240613T164000Z
SUMMARY:lauschig\, klar und deutlich – Kurzlesung von Ella Carina Werner
URL;VALUE=URI:
UID:69eb6edc04abe
END:VEVENT
END:VCALENDAR