BEGIN:VCALENDAR
VERSION:2.0
PRODID:-//hacksw/handcal//NONSGML v1.0//EN
CALSCALE:GREGORIAN
BEGIN:VEVENT
LOCATION:Innenhof des Gewerbemuseums
DTSTART:20260806T160000Z
DTEND:20260806T164000Z
SUMMARY:KURZLESUNG MIT JOVANA NIKIC
URL;VALUE=URI:
UID:69eb6b7dec8a9
END:VEVENT
END:VCALENDAR