BEGIN:VCALENDAR
VERSION:2.0
PRODID:-//hacksw/handcal//NONSGML v1.0//EN
CALSCALE:GREGORIAN
BEGIN:VEVENT
LOCATION:Theater Winterthur
DTSTART:20260919T170000Z
DTEND:20260919T173000Z
SUMMARY:KULTURNACHT MIT PATRICK FREY
URL;VALUE=URI:
UID:69eb555a897b1
END:VEVENT
END:VCALENDAR