BEGIN:VCALENDAR
VERSION:2.0
PRODID:-//hacksw/handcal//NONSGML v1.0//EN
CALSCALE:GREGORIAN
BEGIN:VEVENT
LOCATION:Park der Villa Rychenberg
DTSTART:20260702T173000Z
DTEND:20260702T200000Z
SUMMARY:JULIA ENGELMANN UND GRAZIELLA CONTRATTO
URL;VALUE=URI:
UID:69eb55c231c12
END:VEVENT
END:VCALENDAR