BEGIN:VCALENDAR
VERSION:2.0
PRODID:-//hacksw/handcal//NONSGML v1.0//EN
CALSCALE:GREGORIAN
BEGIN:VEVENT
LOCATION:Adlergarten
DTSTART:20260624T173000Z
DTEND:20260624T200000Z
SUMMARY:JUDITH HERMANN
URL;VALUE=URI:
UID:69eb48ffde467
END:VEVENT
END:VCALENDAR