BEGIN:VCALENDAR
VERSION:2.0
PRODID:-//hacksw/handcal//NONSGML v1.0//EN
CALSCALE:GREGORIAN
BEGIN:VEVENT
LOCATION:Park der Villa Jakobsbrunnen
DTSTART:20260513T173000Z
DTEND:20260513T200000Z
SUMMARY:GABRIELE VON ARNIM UND ZSUZSANNA GAHSE
URL;VALUE=URI:
UID:69eb414c23239
END:VEVENT
END:VCALENDAR