BEGIN:VCALENDAR
VERSION:2.0
PRODID:-//hacksw/handcal//NONSGML v1.0//EN
CALSCALE:GREGORIAN
BEGIN:VEVENT
LOCATION:Seidenstrassequartier
DTSTART:20230611T150000Z
DTEND:20230611T173000Z
SUMMARY:lauschig unterwegs – Stadtspaziergang mit Heike Fiedler und Ralph Tharayil
URL;VALUE=URI:
UID:69eb57d741af4
END:VEVENT
END:VCALENDAR