BEGIN:VCALENDAR
VERSION:2.0
PRODID:-//hacksw/handcal//NONSGML v1.0//EN
CALSCALE:GREGORIAN
BEGIN:VEVENT
LOCATION:Friedhof Rosenberg
DTSTART:20230917T143000Z
DTEND:20230917T160000Z
SUMMARY:Wiederaufnahme ENDStationen – ein Hörspaziergang auf dem Friedhof Rosenberg
URL;VALUE=URI:
UID:69eb56b37a636
END:VEVENT
END:VCALENDAR