BEGIN:VCALENDAR
VERSION:2.0
PRODID:-//hacksw/handcal//NONSGML v1.0//EN
CALSCALE:GREGORIAN
BEGIN:VEVENT
LOCATION:Friedhof Rosenberg
DTSTART:20221120T130000Z
DTEND:20221120T150000Z
SUMMARY:ENDStationen – Finissage
URL;VALUE=URI:
UID:69eb6e7249da2
END:VEVENT
END:VCALENDAR