BEGIN:VCALENDAR
VERSION:2.0
PRODID:-//hacksw/handcal//NONSGML v1.0//EN
CALSCALE:GREGORIAN
BEGIN:VEVENT
LOCATION:Park der Villa Jakobsbrunnen
DTSTART:20260617T173000Z
DTEND:20260617T200000Z
SUMMARY:DOROTHEE ELMIGER UND GABRIELLE ALIOTH
URL;VALUE=URI:
UID:69eb532bad321
END:VEVENT
END:VCALENDAR