BEGIN:VCALENDAR
VERSION:2.0
PRODID:-//hacksw/handcal//NONSGML v1.0//EN
CALSCALE:GREGORIAN
BEGIN:VEVENT
LOCATION:Park Berufsschulhaus Wiesental
DTSTART:20260705T143000Z
DTEND:20260705T163000Z
SUMMARY:BAUMBEGEGNUNG MIT SAHAR TAVAKOLI
URL;VALUE=URI:
UID:69eb542ab183e
END:VEVENT
END:VCALENDAR