BEGIN:VCALENDAR
VERSION:2.0
PRODID:-//hacksw/handcal//NONSGML v1.0//EN
CALSCALE:GREGORIAN
BEGIN:VEVENT
LOCATION:Rosengarten
DTSTART:20260822T143000Z
DTEND:20260822T163000Z
SUMMARY:BAUMBEGEGNUNG MIT JAFAR SAEL UND JURCZOK 1001
URL;VALUE=URI:
UID:69eb558018185
END:VEVENT
END:VCALENDAR